BEGIN:VCALENDAR
VERSION:2.0
PRODID:-//eventon.com NONSGML v1.0//EN
CALSCALE:GREGORIAN
METHOD:PUBLISH
BEGIN:VEVENT
UID:69e75d2f807d4
DTSTAMP:20260421T111911Z
DTSTART:20240705T083000Z
DTEND:20240705T093000Z
LOCATION:Fitnessstudio ADYTON im Niendorfer TSV v.1919 e.V. Sachsenweg 78\,  22455 Hamburg
SUMMARY:Mobility
DESCRIPTION:Tolles Workout mit gezielten Kräftigungsübungen der Rumpf und
  Oberkörpermuskulatur. Für Einsteiger und Fortgeschrittene geeignet.\nhtt
 ps://www.activecitysummer.de/events/mobility-2/
URL:https://www.activecitysummer.de/events/mobility-2/
END:VEVENT
END:VCALENDAR