BEGIN:VCALENDAR
VERSION:2.0
PRODID:-//eventon.com NONSGML v1.0//EN
CALSCALE:GREGORIAN
METHOD:PUBLISH
BEGIN:VEVENT
UID:69e4cd98018a0
DTSTAMP:20260419T124200Z
DTSTART:20240718T150000Z
DTEND:20240718T163000Z
LOCATION:Sportanlage Fünfhausen Sporthallenweg 7\,  21037 Hamburg
SUMMARY:Cheerleading Minis (Jahrgang 2019-2016) mit Magdalena
DESCRIPTION:17.00 – 18.30 Cheerleading Minis (Jahrgang 2019-2016) mit Mag
 dalena\nhttps://www.activecitysummer.de/events/17-00-18-30-cheerleading-min
 is-jahrgang-2019-2016-mit-magdalena/
URL:https://www.activecitysummer.de/events/17-00-18-30-cheerleading-minis-jahrgang-2019-2016-mit-magdalena/
END:VEVENT
END:VCALENDAR