BEGIN:VCALENDAR
VERSION:2.0
PRODID:-//eventon.com NONSGML v1.0//EN
CALSCALE:GREGORIAN
METHOD:PUBLISH
BEGIN:VEVENT
UID:69e75ee50d0de
DTSTAMP:20260421T112629Z
DTSTART:20240729T140000Z
DTEND:20240729T150000Z
LOCATION:Sportanlage Fünfhausen Sporthallenweg 7\,  21037 Hamburg
SUMMARY:Chorea-Dance (6-8 Jahre) mit Benita
DESCRIPTION:Chorea-Dance (6-8 Jahre) mit Benita\nhttps://www.activecitysumm
 er.de/events/chorea-dance-6-8-jahre-mit-benita/
URL:https://www.activecitysummer.de/events/chorea-dance-6-8-jahre-mit-benita/
END:VEVENT
END:VCALENDAR