BEGIN:VCALENDAR
VERSION:2.0
PRODID:-//eventon.com NONSGML v1.0//EN
CALSCALE:GREGORIAN
METHOD:PUBLISH
BEGIN:VEVENT
UID:69e8ac05aac91
DTSTAMP:20260422T110749Z
DTSTART:20240801T150000Z
DTEND:20240801T170000Z
LOCATION:Sportanlage Fünfhausen Sporthallenweg 7\,  21037 Hamburg
SUMMARY:Cheerleading Pewees (Jahrgang 2017-2013) mit Celine
DESCRIPTION:Cheerleading Pewees (Jahrgang 2017-2013) mit Celine\nhttps://ww
 w.activecitysummer.de/events/17-00-19-00-cheerleading-pewees-jahrgang-2017-
 2013-mit-celine/
URL:https://www.activecitysummer.de/events/17-00-19-00-cheerleading-pewees-jahrgang-2017-2013-mit-celine/
END:VEVENT
END:VCALENDAR