BEGIN:VCALENDAR
VERSION:2.0
PRODID:-//eventon.com NONSGML v1.0//EN
CALSCALE:GREGORIAN
METHOD:PUBLISH
BEGIN:VEVENT
UID:69e6231a3c8a9
DTSTAMP:20260420T125906Z
DTSTART:20240802T143000Z
DTEND:20240802T153000Z
LOCATION:Sportanlage Fünfhausen Sporthallenweg 7\,  21037 Hamburg
SUMMARY:Bodyfit mit Stefanie
DESCRIPTION:Bodyfit mit Stefanie\nhttps://www.activecitysummer.de/events/16
 -30-bodyfit-mit-stefanie/
URL:https://www.activecitysummer.de/events/16-30-bodyfit-mit-stefanie/
END:VEVENT
END:VCALENDAR