BEGIN:VCALENDAR
VERSION:2.0
PRODID:-//eventon.com NONSGML v1.0//EN
CALSCALE:GREGORIAN
METHOD:PUBLISH
BEGIN:VEVENT
UID:69e4cf4b2a12f
DTSTAMP:20260419T124915Z
DTSTART:20240802T163000Z
DTEND:20240802T173000Z
LOCATION:Sportanlage Fünfhausen Sporthallenweg 7\,  21037 Hamburg
SUMMARY:Orientalischer Tanz mit Britta
DESCRIPTION:Orientalischer Tanz mit Britta\nhttps://www.activecitysummer.de
 /events/18-30-20-00-orientalischer-tanz-mit-britta/
URL:https://www.activecitysummer.de/events/18-30-20-00-orientalischer-tanz-mit-britta/
END:VEVENT
END:VCALENDAR