BEGIN:VCALENDAR
VERSION:2.0
PRODID:-//eventon.com NONSGML v1.0//EN
CALSCALE:GREGORIAN
METHOD:PUBLISH
BEGIN:VEVENT
UID:69e9d645792f0
DTSTAMP:20260423T082021Z
DTSTART:20240816T073000Z
DTEND:20240816T083000Z
LOCATION:Sportanlage Fünfhausen Sporthallenweg 7\,  21037 Hamburg
SUMMARY:Fit am Morgen mit Nicole
DESCRIPTION:Fit am Morgen mit Nicole\nhttps://www.activecitysummer.de/event
 s/9-30-fit-am-morgen-mit-nicole/
URL:https://www.activecitysummer.de/events/9-30-fit-am-morgen-mit-nicole/
END:VEVENT
END:VCALENDAR