BEGIN:VCALENDAR
VERSION:2.0
PRODID:-//eventon.com NONSGML v1.0//EN
CALSCALE:GREGORIAN
METHOD:PUBLISH
BEGIN:VEVENT
UID:69e73ec89fcaa
DTSTAMP:20260421T090928Z
DTSTART:20240821T083000Z
DTEND:20240821T093000Z
LOCATION:Sportanlage Fünfhausen Sporthallenweg 7\,  21037 Hamburg
SUMMARY:Fit im Alter mit Nicole
DESCRIPTION:Fit im Alter mit Nicole\nhttps://www.activecitysummer.de/events
 /fit-im-alter-mit-nicole-5/
URL:https://www.activecitysummer.de/events/fit-im-alter-mit-nicole-5/
END:VEVENT
END:VCALENDAR