BEGIN:VCALENDAR
VERSION:2.0
PRODID:-//eventon.com NONSGML v1.0//EN
CALSCALE:GREGORIAN
METHOD:PUBLISH
BEGIN:VEVENT
UID:69e4c7e5cfa84
DTSTAMP:20260419T121741Z
DTSTART:20240821T170000Z
DTEND:20240821T180000Z
LOCATION:Sportanlage Fünfhausen Sporthallenweg 7\,  21037 Hamburg
SUMMARY:Workout mit Slidern mit Nicole
DESCRIPTION:Workout mit Slidern mit Nicole\nhttps://www.activecitysummer.de
 /events/workout-mit-slidern-mit-nicole/
URL:https://www.activecitysummer.de/events/workout-mit-slidern-mit-nicole/
END:VEVENT
END:VCALENDAR