BEGIN:VCALENDAR
VERSION:2.0
PRODID:-//eventon.com NONSGML v1.0//EN
CALSCALE:GREGORIAN
METHOD:PUBLISH
BEGIN:VEVENT
UID:69e4d1200a620
DTSTAMP:20260419T125704Z
DTSTART:20240828T154500Z
DTEND:20240828T164500Z
LOCATION:Sportanlage Fünfhausen Sporthallenweg 7\,  21037 Hamburg
SUMMARY:Pilates mit Nicole
DESCRIPTION:Pilates mit Nicole\nhttps://www.activecitysummer.de/events/pila
 tes-mit-nicole/
URL:https://www.activecitysummer.de/events/pilates-mit-nicole/
END:VEVENT
END:VCALENDAR