BEGIN:VCALENDAR
VERSION:2.0
PRODID:-//eventon.com NONSGML v1.0//EN
CALSCALE:GREGORIAN
METHOD:PUBLISH
BEGIN:VEVENT
UID:69e88fe1b10bc
DTSTAMP:20260422T090745Z
DTSTART:20240710T160000Z
DTEND:20240710T165000Z
LOCATION:sportspaß e.V. Center Billstedt Möllner Landstraße 8\,  22111 Hamburg
SUMMARY:Kraftfit
DESCRIPTION:Kraftfit ist ein Kraftausdauertraining mit der Langhantel für 
 alle wichtigen Muskeln. Als fortgeschrittener Sportler kannst du dich durch
  dein individuell wählbares Trainingsgewicht immer neu fordern und auch di
 e letzte Faser im Muskel beanspruchen. Durch überschwellige Reize wirst du
  in der Gruppe zu motivierenden Musik-Tracks Erfolge spüren. Aufgrund begr
 enzten Equipments ist[..]\nhttps://www.activecitysummer.de/events/kraftfit/
 var/ri-1.l-L1
URL:https://www.activecitysummer.de/events/kraftfit/var/ri-1.l-L1
END:VEVENT
END:VCALENDAR