BEGIN:VCALENDAR
VERSION:2.0
PRODID:-//eventon.com NONSGML v1.0//EN
CALSCALE:GREGORIAN
METHOD:PUBLISH
BEGIN:VEVENT
UID:69e888e34a679
DTSTAMP:20260422T083755Z
DTSTART:20240702T084500Z
DTEND:20240702T094500Z
LOCATION:
SUMMARY:Qi Gong
DESCRIPTION:Qi Gong ist deine aktive Erholungspause im hektischen Alltag. M
 ithilfe der speziellen Qi Gong-Übungen kannst du den Energiefluss in Deine
 m Körper verbessern und die Lebensenergie “Qi” harmonisieren. Die trad
 itionellen\,  fließenden Bewegungen im Stand stärken deine innere Balance
 . Fühle dich nach einer Qi Gong-Stunde wieder ruhig\,  klar und ausgeglich
 en. Qi Gong[..]\nhttps://www.activecitysummer.de/events/qi-gong-2/
URL:https://www.activecitysummer.de/events/qi-gong-2/
END:VEVENT
END:VCALENDAR