BEGIN:VCALENDAR
VERSION:2.0
PRODID:-//eventon.com NONSGML v1.0//EN
CALSCALE:GREGORIAN
METHOD:PUBLISH
BEGIN:VEVENT
UID:69e5e1a3ec191
DTSTAMP:20260420T081947Z
DTSTART:20240730T143000Z
DTEND:20240730T160000Z
LOCATION:Poßmoorweg 22
SUMMARY:Inline Fit for Kids - Active City Summer
DESCRIPTION:Inline Fit for Kids - Active City Summer\nhttps://www.activecit
 ysummer.de/events/inline-fit-for-kids/
URL:https://www.activecitysummer.de/events/inline-fit-for-kids/
END:VEVENT
END:VCALENDAR