BEGIN:VCALENDAR
VERSION:2.0
PRODID:-//eventon.com NONSGML v1.0//EN
CALSCALE:GREGORIAN
METHOD:PUBLISH
BEGIN:VEVENT
UID:69e5f074c683c
DTSTAMP:20260420T092300Z
DTSTART:20240822T170000Z
DTEND:20240822T194500Z
LOCATION:
SUMMARY:Tanzen - Paartanz
DESCRIPTION:Tanzen - Paartanz\nhttps://www.activecitysummer.de/events/tanze
 n-paartanz-7/
URL:https://www.activecitysummer.de/events/tanzen-paartanz-7/
END:VEVENT
END:VCALENDAR