BEGIN:VCALENDAR
VERSION:2.0
PRODID:-//eventon.com NONSGML v1.0//EN
CALSCALE:GREGORIAN
METHOD:PUBLISH
BEGIN:VEVENT
UID:69e5eb31cc22b
DTSTAMP:20260420T090033Z
DTSTART:20240702T180000Z
DTEND:20240702T190000Z
LOCATION:ETV-Sportzentrum Hoheluft - KR 2 Lokstedter Steindamm 77\,  22529 Hamburg
SUMMARY:RÃ¼ckengymnastik - Active City Summer
DESCRIPTION:Schulung der rÃ¼ckengerechten Haltung\,  gezielte KrÃ¤ftigungsÃ
 ¼bungen und mobilisierende Bewegungen fÃ¼r den gesamten RÃ¼cken. Abgerundet
  wird die Stunde durch eine lÃ¤ngere Entspannungsphase und DehnÃ¼bungen. Di
 eser Kurs ist im Rahmen des Active City Summers kostenfrei buchbar. Die ein
 malige Registrierung inkl. IBAN ist nÃ¶tig und fÃ¼r alle ETV Angebote nutzb
 ar.\nhttps://www.activecitysummer.de/events/rueckengymnastik-active-city/
URL:https://www.activecitysummer.de/events/rueckengymnastik-active-city/
END:VEVENT
END:VCALENDAR