BEGIN:VCALENDAR
VERSION:2.0
PRODID:-//eventon.com NONSGML v1.0//EN
CALSCALE:GREGORIAN
METHOD:PUBLISH
BEGIN:VEVENT
UID:69e9d6d0257ca
DTSTAMP:20260423T082240Z
DTSTART:20240703T093000Z
DTEND:20240703T104500Z
LOCATION:ETV-Sportzentrum Hoheluft - KR 1 Lokstedter Steindamm 77\,  22529 Hamburg
SUMMARY:Vinyasa Yoga I-II - Active City Summer
DESCRIPTION:Eine Stunde\,  die sich an Yoga-Einsteiger richtet. Dieser Kurs
  ist im Rahmen des Active City Summers kostenfrei buchbar. Die einmalige Re
 gistrierung inkl. IBAN ist nötig und für alle ETV Angebote nutzbar.\nhttp
 s://www.activecitysummer.de/events/vinyasa-yoga-i-ii-active-city/
URL:https://www.activecitysummer.de/events/vinyasa-yoga-i-ii-active-city/
END:VEVENT
END:VCALENDAR