BEGIN:VCALENDAR
VERSION:2.0
PRODID:-//eventon.com NONSGML v1.0//EN
CALSCALE:GREGORIAN
METHOD:PUBLISH
BEGIN:VEVENT
UID:69e4c844e05f3
DTSTAMP:20260419T121916Z
DTSTART:20240704T054500Z
DTEND:20240704T070000Z
LOCATION:ETV-Sportzentrum Hoheluft - KR 2 Lokstedter Steindamm 77\,  22529 Hamburg
SUMMARY:Yoga in der Schwangerschaft - Active City Summer Special
DESCRIPTION:Das Training ist speziell auf werdende Mütter abgestimmt und b
 esteht aus einem Mix von Atemübungen und Yogaelementen. Dieser Kurs ist im
  Rahmen des Active City Summers kostenfrei buchbar. Die einmalige Registrie
 rung inkl. IBAN ist nötig und für alle ETV Angebote nutzbar.\nhttps://www
 .activecitysummer.de/events/yoga-in-der-schwangerschaft-active-city/
URL:https://www.activecitysummer.de/events/yoga-in-der-schwangerschaft-active-city/
END:VEVENT
END:VCALENDAR