BEGIN:VCALENDAR
VERSION:2.0
PRODID:-//eventon.com NONSGML v1.0//EN
CALSCALE:GREGORIAN
METHOD:PUBLISH
BEGIN:VEVENT
UID:69e9d93b3f494
DTSTAMP:20260423T083259Z
DTSTART:20240702T130000Z
DTEND:20240702T140000Z
LOCATION:ETV-Sportzentrum Hoheluft - KR 2 Lokstedter Steindamm 77\,  22529 Hamburg
SUMMARY:Kindertanz 4-6 Jahre - Active City Summer
DESCRIPTION:Unser Kindertanzkurs bietet eine wunderbare Gelegenheit ihre Le
 idenschaft fürs Tanzen zu entdecken. Des Weiteren entsteht die Möglichkei
 t neue Freundschaften zu schließen und die motorischen Fähigkeiten zu ver
 bessern. Während des Kurses werden die Kinder wichtige Grundlagen wie Koor
 dination\,  Balance\,  Rhythmusgefühl\,  und Körperbeherrschung erlernen.
  Diese Fähigkeiten sind sowohl im Tanz als auch[..]\nhttps://www.activecit
 ysummer.de/events/kindertanz-4-6-jahre-active-city-2/
URL:https://www.activecitysummer.de/events/kindertanz-4-6-jahre-active-city-2/
END:VEVENT
END:VCALENDAR