BEGIN:VCALENDAR
VERSION:2.0
PRODID:-//eventon.com NONSGML v1.0//EN
CALSCALE:GREGORIAN
METHOD:PUBLISH
BEGIN:VEVENT
UID:69e896307259f
DTSTAMP:20260422T093440Z
DTSTART:20240701T140000Z
DTEND:20240701T153000Z
LOCATION:
SUMMARY:MINIS Basketball beim HTB62
DESCRIPTION:Komm zu unserem MINIS Basketballkurs! Bist du bereit\,  die Wel
 t des Basketballs zu entdecken und jede Menge Spaß zu haben? Dann ist unse
 r MINIS Basketballkurs genau das Richtige für dich! Warum unser Kurs? Spie
 lerisches Lernen: Unsere Trainings sind darauf ausgelegt\,  dass du die Gru
 ndlagen des Basketballs auf eine lustige und[..]\nhttps://www.activecitysum
 mer.de/events/minis-basketball-beim-htb62/
URL:https://www.activecitysummer.de/events/minis-basketball-beim-htb62/
END:VEVENT
END:VCALENDAR