BEGIN:VCALENDAR
VERSION:2.0
PRODID:-//eventon.com NONSGML v1.0//EN
CALSCALE:GREGORIAN
METHOD:PUBLISH
BEGIN:VEVENT
UID:69e73f5a922a1
DTSTAMP:20260421T091154Z
DTSTART:20240627T160000Z
DTEND:20240627T173000Z
LOCATION:Lombardsbrücke/ Ecke Ballindamm
SUMMARY:Mit dem Weltmeister auf die Laufrunde
DESCRIPTION:Am 27. Juni bekommen alle Laufbegeisterten jedweden Leistungsni
 veaus die Möglichkeit gemeinsam mit Daniel Unger eine Runde um die Außena
 lster zu joggen. Im Rahmen des Community Run zum SUZUKI World Triathlon Ham
 burg powered by HAMBURG WASSER\,  der erstmals in diesem Jahr umgesetzt wir
 d\,  nimmt der Triathlon-Weltmeister von 2007 erfahrene Läuferinnen und[..
 ]\nhttps://www.activecitysummer.de/events/mit-dem-weltmeister-auf-die-laufr
 unde-2/
URL:https://www.activecitysummer.de/events/mit-dem-weltmeister-auf-die-laufrunde-2/
END:VEVENT
END:VCALENDAR