BEGIN:VCALENDAR
VERSION:2.0
PRODID:-//eventon.com NONSGML v1.0//EN
CALSCALE:GREGORIAN
METHOD:PUBLISH
BEGIN:VEVENT
UID:69e8936c313d8
DTSTAMP:20260422T092252Z
DTSTART:20240704T183000Z
DTEND:20240704T192000Z
LOCATION:sportspass e.V. Center Altona Paul-Nevermann-Platz 13\,  22765 Hamburg
SUMMARY:twerXout® für Frauen
DESCRIPTION:Ein innovative Tanz-Fitness-Workout\,  welches die Kalorienverb
 rennung ankurbelt. Übungen mit Basiselementen aus dem Twerk bringe dich zu
 m schwitzen\,  lassen Muskeln aufbauen und dich Spaß haben!\nhttps://www.a
 ctivecitysummer.de/events/twerxout-fuer-frauen/
URL:https://www.activecitysummer.de/events/twerxout-fuer-frauen/
END:VEVENT
END:VCALENDAR