BEGIN:VCALENDAR
VERSION:2.0
PRODID:-//eventon.com NONSGML v1.0//EN
CALSCALE:GREGORIAN
METHOD:PUBLISH
BEGIN:VEVENT
UID:69e9d5b61571a
DTSTAMP:20260423T081758Z
DTSTART:20240811T131500Z
DTEND:20240811T150000Z
LOCATION:Wassersportabteilung SV Polizei\,  Ecke Isekai und Geffckenstraße Isekai 12\,  20249 Hamburg
SUMMARY:Drachenboottraining WSAP Caipiranhas
DESCRIPTION:Moin\,  Du bist sportbegeistert\,  hast Bock auf Team Sport und
  kein Problem\,   beim Sport nass zu werden?  Dann komm zu einem Schnuppe
 rtraining bei den Caipiranhas (WSAP). Wir sind ein hochmotiviertes Drachenb
 oot-Team\,  das bei Wind und Wetter ganzjährig auf der Alster trainiert. T
 eamgeist\,  Spaß und eine Prise sportlicher Ehrgeiz stehen bei[..]\nhttps:
 //www.activecitysummer.de/events/drachenboottraining-wsap-caipiranhas-3/var
 /ri-1.l-L1
URL:https://www.activecitysummer.de/events/drachenboottraining-wsap-caipiranhas-3/var/ri-1.l-L1
END:VEVENT
END:VCALENDAR