BEGIN:VCALENDAR
VERSION:2.0
PRODID:-//eventon.com NONSGML v1.0//EN
CALSCALE:GREGORIAN
METHOD:PUBLISH
BEGIN:VEVENT
UID:69e5e2ea50b64
DTSTAMP:20260420T082514Z
DTSTART:20240705T121500Z
DTEND:20240705T130500Z
LOCATION:sportspass e.V. Center Holsteinischer Kamp Holsteinischer Kamp 87\,  22081 Hamburg
SUMMARY:Bodyfit
DESCRIPTION:Bodyfit ist dein All-in-One-Paket\,  das ein Ausdauertraining p
 erfekt mit einem Ganzkörper-Workout kombiniert. Jede Bodyfit-Stunde beinha
 ltet sowohl Übungen für dein Herzkreislaufsystem als auch kräftigende El
 emente\,  die deine Muskulatur von Kopf bis Fuß fordern. Die Beanspruchung
 sphasen werden in den Stunden unterschiedlich kombiniert und können auch a
 ls Intervalltraining angeboten werden. Teilweise kommen neben[..]\nhttps://
 www.activecitysummer.de/events/bodyfit-10/
URL:https://www.activecitysummer.de/events/bodyfit-10/
END:VEVENT
END:VCALENDAR