BEGIN:VCALENDAR
VERSION:2.0
PRODID:-//eventon.com NONSGML v1.0//EN
CALSCALE:GREGORIAN
METHOD:PUBLISH
BEGIN:VEVENT
UID:69e5ee4cbee93
DTSTAMP:20260420T091348Z
DTSTART:20240821T170000Z
DTEND:20240821T183000Z
LOCATION:Jahnkampfbahn [Stadtpark] Linnering 3\,  22299 Hamburg
SUMMARY:Fitness meets Mobility
DESCRIPTION:Fitness meets Mobility bedeutet ein strukturierter Mix aus effi
 zienten KraftÃ¼bungen\,  intensiven Kraftausdauer-Training und MobilitÃ¤tsÃ
 ¼bungen fÃ¼r Muskeln\,  Sehnen und Gelenke. Euer KÃ¶rper erfÃ¤hrt wÃ¤hrend 
 des Trainings hÃ¶here Sauerstoffdefizite\,  wodurch euer Herz-Kreislauf-Sys
 tem gefÃ¶rdert\,  der Fettstoffwechsel angekurbelt und die Kraftausdauer tr
 ainiert wird.Â Der KursÂ vereint IntensitÃ¤t\,  FunktionalitÃ¤t\,  Vielseit
 igkeit und Kondition. FÃ¼r jedes Fitnesslevel geeignet.\nhttps://www.active
 citysummer.de/events/fitness-meets-mobility-6/
URL:https://www.activecitysummer.de/events/fitness-meets-mobility-6/
END:VEVENT
END:VCALENDAR