BEGIN:VCALENDAR
VERSION:2.0
PRODID:-//eventon.com NONSGML v1.0//EN
CALSCALE:GREGORIAN
METHOD:PUBLISH
BEGIN:VEVENT
UID:69e773bcd4970
DTSTAMP:20260421T125524Z
DTSTART:20240724T120000Z
DTEND:20240724T160000Z
LOCATION:Lohmühlenpark St. Georg
SUMMARY:ParkSport Spiel & Spaß
DESCRIPTION:Ferienangebot im Lohmühlenpark: Freizeit- und ParkSpiele für 
 ALLE mit den ParkSportPiloten. Macht mit bei verschiedenen Ballspielen\,  W
 ikinger-Schach\,  Boule\,  Disc Golf und weiteren Sportarten. Einfach vorbe
 ikommen ohne Anmeldung. Für alle Altersgruppen geeignet. Jeden Mittwoch in
  den Sommerferien sowie jeden Samstag &amp; Sonntag!\nhttps://www.activecit
 ysummer.de/events/parksport-spiel-spass-26/
URL:https://www.activecitysummer.de/events/parksport-spiel-spass-26/
END:VEVENT
END:VCALENDAR