BEGIN:VCALENDAR
VERSION:2.0
PRODID:-//eventon.com NONSGML v1.0//EN
CALSCALE:GREGORIAN
METHOD:PUBLISH
BEGIN:VEVENT
UID:69e9e0ebea15a
DTSTAMP:20260423T090547Z
DTSTART:20240725T120000Z
DTEND:20240725T140000Z
LOCATION:Haferblöcken Billstedt
SUMMARY:SPORTLICHES FERIENPROGRAMM IN DEN HAFERBLÖCKEN!
DESCRIPTION:Spiel\,  Spaß und Bewegung in den Haferblöcken! Ein kostenlos
 es Sportangebot ohne Voranmeldung für Kinder und Jugendliche. Mehr Infos u
 nter: Sportliches Sommerferienprogramm in den Haferblöcken Diese Veranstal
 tung ist eine Kooperation zwischen Hamburg bewegt Kids und dem Parksportins
 el e.V.\nhttps://www.activecitysummer.de/events/sportliches-ferienprogramm-
 in-den-haferbloecken/
URL:https://www.activecitysummer.de/events/sportliches-ferienprogramm-in-den-haferbloecken/
END:VEVENT
END:VCALENDAR