BEGIN:VCALENDAR
VERSION:2.0
PRODID:-//eventon.com NONSGML v1.0//EN
CALSCALE:GREGORIAN
METHOD:PUBLISH
BEGIN:VEVENT
UID:69e9f66a84e6a
DTSTAMP:20260423T103730Z
DTSTART:20240808T180000Z
DTEND:20240808T190000Z
LOCATION:MSV Halle Finnmarkring Finnmarkring 12a\,  Raum 2
SUMMARY:RÃ¼cken & Co
DESCRIPTION:Ein starker RÃ¼cken ist wichtiger Faktor fÃ¼r einen aktiven All
 tag und ein gesundes Wohlbefinden. Zudem kann er Haltungsbeschwerden und RÃ
 ¼ckenschmerzen vorbeugen und entgegenwirken. In RÃ¼cken &amp; Co steht die 
 KrÃ¤ftigung und Mobilisierung der gesamten RÃ¼ckenmuskulatur im Fokus\,  we
 iterhin werden aber auch andere wichtige Muskelgruppen mit trainiert. Dadur
 ch entsteht ein effektives[..]\nhttps://www.activecitysummer.de/events/ruec
 ken-co-4/
URL:https://www.activecitysummer.de/events/ruecken-co-4/
END:VEVENT
END:VCALENDAR