BEGIN:VCALENDAR
VERSION:2.0
PRODID:-//eventon.com NONSGML v1.0//EN
CALSCALE:GREGORIAN
METHOD:PUBLISH
BEGIN:VEVENT
UID:69e774596af4d
DTSTAMP:20260421T125801Z
DTSTART:20240804T160000Z
DTEND:20240804T180000Z
LOCATION:
SUMMARY:Basketball Open Court: Jeden Sonntag Zocken 🏀
DESCRIPTION:Spielspaß pur: Wöchentlicher Basketballkurs am Sonntag! Du li
 ebst es\,  Basketball zu spielen und möchtest einfach nur aufs Feld? Dann 
 ist unser Basketballkurs genau das Richtige für dich! Hier steht das Spiel
 en im Mittelpunkt! Warum unser Kurs? Reiner Spielspaß: Nur Zocken! Genieß
 e die Zeit auf dem Feld und verbessere dein Spiel[..]\nhttps://www.activeci
 tysummer.de/events/basketball-open-court-jeden-sonntag-zocken-%f0%9f%8f%80/
URL:https://www.activecitysummer.de/events/basketball-open-court-jeden-sonntag-zocken-%f0%9f%8f%80/
END:VEVENT
END:VCALENDAR