BEGIN:VCALENDAR
VERSION:2.0
PRODID:-//eventon.com NONSGML v1.0//EN
CALSCALE:GREGORIAN
METHOD:PUBLISH
BEGIN:VEVENT
UID:69e9e1dd020e6
DTSTAMP:20260423T090949Z
DTSTART:20240929
DTEND:20240930
LOCATION:Hamburg-Neustadt Rund um den Großneumarkt und Strecke zur Rollschuhbahn\,  Planten un Blomen
SUMMARY:Bewegungsangebote im Rahmen des Festivals "Drunter und Drüber" in der Neustadt
DESCRIPTION:Bewegungsangebote im Rahmen des Festivals "Drunter und Drüber"
  in der Neustadt\nhttps://www.activecitysummer.de/events/bewegungsangebote-
 im-rahmen-des-festivals-drunter-und-drueber-in-der-neustadt/
URL:https://www.activecitysummer.de/events/bewegungsangebote-im-rahmen-des-festivals-drunter-und-drueber-in-der-neustadt/
END:VEVENT
END:VCALENDAR