BEGIN:VCALENDAR
VERSION:2.0
PRODID:-//eventon.com NONSGML v1.0//EN
CALSCALE:GREGORIAN
METHOD:PUBLISH
BEGIN:VEVENT
UID:69e75e8788eb1
DTSTAMP:20260421T112455Z
DTSTART:20240829T160000Z
DTEND:20240829T170000Z
LOCATION:Aula der Schule Nydamer Weg 44 Nydamer Weg 44\,  22145 Hamburg
SUMMARY:Zumba
DESCRIPTION:ZUMBA ist ein energiegeladenes Workout\,  das aus lateinamerika
 nischer Musik sowie Tanz- und Aerobicelementen besteht. Es kombiniert dynam
 ische Bewegungen mit ansteckenden Rhythmen\,  die sofort zum Mitmachen anre
 gen. Durch die unkomplizierten Bewegungsabläufe ist ZUMBA perfekt für Nic
 httänzer\,  Anfänger und Schüchterne gleichermaßen geeignet. Ob jung od
 er alt\,  männlich oder weiblich – jeder kann[..]\nhttps://www.activecit
 ysummer.de/events/zumba-11/
URL:https://www.activecitysummer.de/events/zumba-11/
END:VEVENT
END:VCALENDAR