BEGIN:VCALENDAR
VERSION:2.0
PRODID:-//eventon.com NONSGML v1.0//EN
CALSCALE:GREGORIAN
METHOD:PUBLISH
BEGIN:VEVENT
UID:69e617d62ed27
DTSTAMP:20260420T121102Z
DTSTART:20250913T100000Z
DTEND:20250913T120000Z
LOCATION:Ruder-Club „Allemannia von 1866“ An der Alster 47a (Gurlitt-Insel)\,  20099 Hamburg
SUMMARY:Rudern für Anfänger und Fortgeschrittene - Active City Summer Special
DESCRIPTION:Rudern ist ein gesunder\,  relativ verletzungsarmer Sport\,  we
 lches man fast das ganze Jahr über bis ins hohe Alter betreiben kann. Beim
  Active City Summer werdet ihr nach einer kurzen Einführung an Land eure e
 rsten Ruderschläge auf dem Wasser machen. Bereits erfahrenere Ruderer sind
  bei uns ebenfalls herzlich willkommen. Durch einen[..]\nhttps://www.active
 citysummer.de/events/rudern-fuer-anfaenger-und-fortgeschrittene-active-city
 -summer-special-2/
URL:https://www.activecitysummer.de/events/rudern-fuer-anfaenger-und-fortgeschrittene-active-city-summer-special-2/
END:VEVENT
END:VCALENDAR