BEGIN:VCALENDAR
VERSION:2.0
PRODID:-//eventon.com NONSGML v1.0//EN
CALSCALE:GREGORIAN
METHOD:PUBLISH
BEGIN:VEVENT
UID:69eb2c2f6b150
DTSTAMP:20260424T083911Z
DTSTART:20250702T060000Z
DTEND:20250702T070000Z
LOCATION:ETV-Sportzentrum Bundesstraße - Gym V Bundesstraße 96\,  20144 Hamburg
SUMMARY:HIIT - Active City
DESCRIPTION:Ein hochintensives Intervalltraining\,  das für fortgeschritte
 ne Teilnehmer:innen geeignet ist. Kraft- und Ausdauereinheiten wechseln sic
 h ab. Die einmalige Registrierung inkl. IBAN ist auch für kostenfreie Ange
 bote nötig und für alle ETV Angebote nutzbar.\nhttps://www.activecitysumm
 er.de/events/hiit-active-city/
URL:https://www.activecitysummer.de/events/hiit-active-city/
END:VEVENT
END:VCALENDAR