BEGIN:VCALENDAR
VERSION:2.0
PRODID:-//eventon.com NONSGML v1.0//EN
CALSCALE:GREGORIAN
METHOD:PUBLISH
BEGIN:VEVENT
UID:69e892d6d303f
DTSTAMP:20260422T092022Z
DTSTART:20250705T100000Z
DTEND:20250705T110000Z
LOCATION:ETV-Sportzentrum Hoheluft - DACH Lokstedter Steindamm 77\,  22529 Hamburg
SUMMARY:HIIT - Outdoor - Active City Summer Special
DESCRIPTION:Freut euch auf ein hochIntensives Intervalltraining. Hier wechs
 eln sich Kraft- und Ausdauereinheiten ab\,  die größtenteils mit dem eige
 nen Körpergewicht\,  als auch mit Kleingeräten gestaltet werden. Der Kurs
  findet Outdoor statt. Bitte eine Matte und entsprechende Outdoor-Sportklei
 dung mitbringen. Bei Sturm oder Gewitter findet der Kurs indoor im Athletik
 raum statt. Die einmalige[..]\nhttps://www.activecitysummer.de/events/hiit-
 outdoor-active-city/
URL:https://www.activecitysummer.de/events/hiit-outdoor-active-city/
END:VEVENT
END:VCALENDAR