BEGIN:VCALENDAR
VERSION:2.0
PRODID:-//eventon.com NONSGML v1.0//EN
CALSCALE:GREGORIAN
METHOD:PUBLISH
BEGIN:VEVENT
UID:69e8abc13b690
DTSTAMP:20260422T110641Z
DTSTART:20250922T070000Z
DTEND:20250922T080000Z
LOCATION:ETV-Sportzentrum BundesstraÃŸe - Gym I Bundesstra0e 96\,  20144 Hamburg
SUMMARY:RÃ¼ckengymnastik - Active City
DESCRIPTION:Schulung der rÃ¼ckengerechten Haltung\,  gezielte KrÃ¤ftigungsÃ
 ¼bungen und mobilisierende Bewegungen fÃ¼r den gesamten RÃ¼cken. Abgerundet
  wird die Stunde durch eine lÃ¤ngere Entspannungsphase und DehnÃ¼bungen. Be
 i Sturm und Gewitter findet der Kurs indoor in KR 1 statt. Die einmalige Re
 gistrierung inkl. IBAN ist auch fÃ¼r kostenfreie Angebote nÃ¶tig und fÃ¼r a
 lle ETV[..]\nhttps://www.activecitysummer.de/events/rueckengymnastik-active
 -city-2/var/ri-11.l-L1
URL:https://www.activecitysummer.de/events/rueckengymnastik-active-city-2/var/ri-11.l-L1
END:VEVENT
END:VCALENDAR