BEGIN:VCALENDAR
VERSION:2.0
PRODID:-//eventon.com NONSGML v1.0//EN
CALSCALE:GREGORIAN
METHOD:PUBLISH
BEGIN:VEVENT
UID:69e9ec1adfd18
DTSTAMP:20260423T095330Z
DTSTART:20250709T104500Z
DTEND:20250709T113500Z
LOCATION:sportspaß e.V. Center Berliner Tor Westphalensweg 11\,  20099 Hamburg
SUMMARY:CBW - Complete Body Workout
DESCRIPTION:Im Complete Body Workout trainierst du deine gesamte Skelettmus
 kulatur\,  von der Arm- und Schulterpartie\,  über deine Rumpfmuskulatur b
 is hin zu Gesäß\,  Oberschenkel und Waden. Teilweise wird mit Hilfe von F
 itness-Kleingeräten im Stand und auf der Matte trainiert. Deine Muskulatur
  wird stärker\,  widerstandsfähiger und formschöner. Alle Muskelpartien 
 können zum Einsatz kommen[..]\nhttps://www.activecitysummer.de/events/cbw-
 complete-body-workout/var/ri-1.l-L1
URL:https://www.activecitysummer.de/events/cbw-complete-body-workout/var/ri-1.l-L1
END:VEVENT
END:VCALENDAR