BEGIN:VCALENDAR
VERSION:2.0
PRODID:-//eventon.com NONSGML v1.0//EN
CALSCALE:GREGORIAN
METHOD:PUBLISH
BEGIN:VEVENT
UID:69e5fc98d3fd6
DTSTAMP:20260420T101448Z
DTSTART:20250704T161500Z
DTEND:20250704T171500Z
LOCATION:sportspass e.V. Center Holsteinischer Kamp Holsteinischer Kamp 87\,  22081 Hamburg
SUMMARY:deepWORK™
DESCRIPTION:deepWORK™ ist ein athletisches Ganzkörpertraining: Du kombin
 ierst schweißtreibende Ausdauersequenzen mit funktionalen Kraftübungen un
 d entspannenden Atemübungen. deepWORK™ basiert auf dem Prinzip von Yin u
 nd Yang – auf Phasen der Anspannung folgt wieder Entspannung. Schwungphas
 en garantieren den nötigen Spaß-Faktor und bei den kombinierten Kraft-Sch
 wung-Elementen kommst du als Teilnehmer mit Sicherheit auf deine[..]\nhttps
 ://www.activecitysummer.de/events/deepwork-5/
URL:https://www.activecitysummer.de/events/deepwork-5/
END:VEVENT
END:VCALENDAR