BEGIN:VCALENDAR
VERSION:2.0
PRODID:-//eventon.com NONSGML v1.0//EN
CALSCALE:GREGORIAN
METHOD:PUBLISH
BEGIN:VEVENT
UID:69e5e9c65d75b
DTSTAMP:20260420T085430Z
DTSTART:20250719T090000Z
DTEND:20250719T110000Z
LOCATION:Gymnastikhalle Marschweg Marschweg 75\,  22559 Hamburg
SUMMARY:Active City Summer Special Bodenturnen-Workshop (6-10 Jahre)
DESCRIPTION:Am 19.7.\,  haben wir mit einem Zehntellauf und weiteren sportl
 ichen Aktionen ein größeres Event und würden in diesem Rahmen ebenfalls 
 einen zweistündigen Turnworkshop &#8222;Active City Summer Special: Bodent
 urnen-Workshop&#8220; anbieten. &nbsp; Bitte meldet euch über den Link an\
 ,  da es nur begrenzte Plätze gibt!\nhttps://www.activecitysummer.de/event
 s/active-city-summer-special-bodenturnen-workshop-6-10-jahre/
URL:https://www.activecitysummer.de/events/active-city-summer-special-bodenturnen-workshop-6-10-jahre/
END:VEVENT
END:VCALENDAR