BEGIN:VCALENDAR
VERSION:2.0
PRODID:-//eventon.com NONSGML v1.0//EN
CALSCALE:GREGORIAN
METHOD:PUBLISH
BEGIN:VEVENT
UID:69e8ab7da3299
DTSTAMP:20260422T110533Z
DTSTART:20250712T103000Z
DTEND:20250712T113000Z
LOCATION:sportspass e.V.\,  Center Harburg Harburger Ring 10\,  21073 Hamburg
SUMMARY:Modern Dance Contemporary
DESCRIPTION:Modern-Dance ist eine Variante des BÃ¼hnentanzes\,  die weitgeh
 end als Ã¤sthetische Abgrenzung zum klassischen Ballett verstanden wird. De
 r Tanz basiert auf sehr leichten\,  teilweise auch abstrakten BewegungsablÃ
 ¤ufen. Es ist ein Wechsel zwischen Kraft und Entspannung\,  Leichtigkeit un
 d Bodenhaftung. Du entdeckst verschiedene Raumebenen und -richtungen\,  ler
 nst mit den Bewegungen zu atmen und[..]\nhttps://www.activecitysummer.de/ev
 ents/modern-dance-contemporary/var/ri-1.l-L1
URL:https://www.activecitysummer.de/events/modern-dance-contemporary/var/ri-1.l-L1
END:VEVENT
END:VCALENDAR