BEGIN:VCALENDAR
VERSION:2.0
PRODID:-//eventon.com NONSGML v1.0//EN
CALSCALE:GREGORIAN
METHOD:PUBLISH
BEGIN:VEVENT
UID:69e8aa8b7686e
DTSTAMP:20260422T110131Z
DTSTART:20250708T090000Z
DTEND:20250708T095000Z
LOCATION:sportspaß e.V. Center City Nord Überseering 19\,  22297 Hamburg
SUMMARY:Bauch\,  Beine\,  Rücken\,  Po (BBRP)
DESCRIPTION:Eine trainierte und wohlgeformte Körpermitte ist es\,  was (ni
 cht nur) Frauen wollen: BBRP ist dein Workout\,  insbesondere für die Bere
 iche Bauch\,  Beine\,  Rücken und Po. Im Stand und auf der Matte fordern u
 nd kräftigen wir zum Teil unter Einsatz von Kleinmaterial unsere Muskulatu
 r. Ein strafferes Gewebe sowie eine höhere Kraftausdauer[..]\nhttps://www.
 activecitysummer.de/events/bauch-beine-ruecken-po-bbrp-10/var/ri-1.l-L1
URL:https://www.activecitysummer.de/events/bauch-beine-ruecken-po-bbrp-10/var/ri-1.l-L1
END:VEVENT
END:VCALENDAR