BEGIN:VCALENDAR
VERSION:2.0
PRODID:-//eventon.com NONSGML v1.0//EN
CALSCALE:GREGORIAN
METHOD:PUBLISH
BEGIN:VEVENT
UID:69e8dff7e0924
DTSTAMP:20260422T144927Z
DTSTART:20250703T144500Z
DTEND:20250703T153500Z
LOCATION:sportspaß e.V. Center City Nord Überseering 19\,  22297 Hamburg
SUMMARY:Mama Fitness
DESCRIPTION:Du würdest gerne mal wieder ein bisschen Sport treiben\,  um i
 n deine alte Form zurückzufinden und etwas für dich zu tun? Gemeinsam mit
  anderen Mamas wirst du wieder aktiv\,  während dein Kind in deiner Nähe 
 bleibt und in einem sicheren Rahmen spielerisch erste soziale Kontakte knü
 pft. Mama Fitness ist nach[..]\nhttps://www.activecitysummer.de/events/mama
 -fitness/
URL:https://www.activecitysummer.de/events/mama-fitness/
END:VEVENT
END:VCALENDAR