BEGIN:VCALENDAR
VERSION:2.0
PRODID:-//eventon.com NONSGML v1.0//EN
CALSCALE:GREGORIAN
METHOD:PUBLISH
BEGIN:VEVENT
UID:69e8c391f08fc
DTSTAMP:20260422T124817Z
DTSTART:20250704T144500Z
DTEND:20250704T153500Z
LOCATION:sportspaß e.V. Center City Nord Überseering 19\,  22297 Hamburg
SUMMARY:Feldenkrais
DESCRIPTION:Feldenkrais ist eine besonders ruhige Bewegungsmethode\,  bei d
 er achtsam und individuell die Selbstwahrnehmung trainiert wird. Großer We
 rt wird auf die Bewusstheit deiner Bewegungen gelegt\,  wodurch Blockaden u
 nd schädliche Bewegungsmuster gelöst werden. Du kannst zu mehr körperlic
 her Beweglichkeit und einem entspannten Geist kommen und mit Feldenkrais ei
 nen effizienten Ausgleich zu seelischen[..]\nhttps://www.activecitysummer.d
 e/events/feldenkrais-2/
URL:https://www.activecitysummer.de/events/feldenkrais-2/
END:VEVENT
END:VCALENDAR