BEGIN:VCALENDAR
VERSION:2.0
PRODID:-//eventon.com NONSGML v1.0//EN
CALSCALE:GREGORIAN
METHOD:PUBLISH
BEGIN:VEVENT
UID:69e9d6900ba8b
DTSTAMP:20260423T082136Z
DTSTART:20250707T110000Z
DTEND:20250707T115000Z
LOCATION:sportspass e.V. Center Altona Paul-Nevermann-Platz 13\,  22765 Hamburg
SUMMARY:Rücken Power
DESCRIPTION:Stärke dein Kreuz und werde widerstandsfähiger gegen physisch
 e und psychische Belastungen! Rücken Power wirkt präventiv und ausgleiche
 nd bei Bewegungseinschränkungen und muskulär bedingtem Schmerz im Wirbels
 äulenbereich. Durch Kräftigungs-\,  Mobilisierungs- und Dehnübungen tust
  du deinem Rücken Gutes und gehst aufrecht durchs Leben. In 80/90-minütig
 en Kursen schließt ein Entspannungsteil die Stunde ab. Atme[..]\nhttps://w
 ww.activecitysummer.de/events/ruecken-power-7/
URL:https://www.activecitysummer.de/events/ruecken-power-7/
END:VEVENT
END:VCALENDAR