BEGIN:VCALENDAR
VERSION:2.0
PRODID:-//eventon.com NONSGML v1.0//EN
CALSCALE:GREGORIAN
METHOD:PUBLISH
BEGIN:VEVENT
UID:69e5ee8fad1b9
DTSTAMP:20260420T091455Z
DTSTART:20250703T160000Z
DTEND:20250703T170000Z
LOCATION:Aula\,  Grundschule Nydamer Weg Nydamer Weg 44\,  22145 Hamburg
SUMMARY:Zumba
DESCRIPTION:Zumba® ist ein Workout\,  das sich aus lateinamerikanischer Mu
 sik wie z.B. Samba\,  Salsa\,  Mambo oder Merengue und Tanz- und Aerobicele
 menten zusammensetzt. Es werden aber keine Takte gezählt oder komplizierte
  Choreografien gelernt. Durch die unkomplizierten Bewegungsabläufe ist di
 es ein Sport gleichermaßen für Nichttänzer\,  Anfänger oder Schüchtern
 e. Man muss kein “Profi-Tänzer” sein! Ob[..]\nhttps://www.activecitysu
 mmer.de/events/zumba-2/
URL:https://www.activecitysummer.de/events/zumba-2/
END:VEVENT
END:VCALENDAR