BEGIN:VCALENDAR
VERSION:2.0
PRODID:-//eventon.com NONSGML v1.0//EN
CALSCALE:GREGORIAN
METHOD:PUBLISH
BEGIN:VEVENT
UID:69e75c25b37f7
DTSTAMP:20260421T111445Z
DTSTART:20250709T183000Z
DTEND:20250709T200000Z
LOCATION:Volkshaus Berne Saselheider Weg 6\,  22159 Hamburg
SUMMARY:Tanzkreis für Fortgeschrittene
DESCRIPTION:Unsere erfahrenen Tanzkreisleiter lassen Tanz aus: Standard (z
 .B. Walzer\,  Tango\,  Quickstep) oder Latein (u.a. Chachacha\,  Rumba) –
  Die Mischung macht’s! Hier lernen Sie immer etwas Neues.\nhttps://www.ac
 tivecitysummer.de/events/tanzkreis-fuer-fortgeschrittene-2/var/ri-1.l-L1
URL:https://www.activecitysummer.de/events/tanzkreis-fuer-fortgeschrittene-2/var/ri-1.l-L1
END:VEVENT
END:VCALENDAR