BEGIN:VCALENDAR
VERSION:2.0
PRODID:-//eventon.com NONSGML v1.0//EN
CALSCALE:GREGORIAN
METHOD:PUBLISH
BEGIN:VEVENT
UID:69e4ce819d057
DTSTAMP:20260419T124553Z
DTSTART:20250724T170000Z
DTEND:20250724T180000Z
LOCATION:Große Halle Kirchwerder Kirchwerder Hausdeich 341\,  21037 Hamburg
SUMMARY:Step mit Sabrina
DESCRIPTION:Bei Step Aerobic handelt es sich um ein hoch intensives Cardi
 o-Training. Dabei werden verschiedene Schritte auf und um eine Plattform\, 
  dem sogenannten Step\,  gemacht. Die Gelenke werden geschont und die allge
 meine Fitness verbessert.\nhttps://www.activecitysummer.de/events/step-mit-
 sabrina-2/
URL:https://www.activecitysummer.de/events/step-mit-sabrina-2/
END:VEVENT
END:VCALENDAR