BEGIN:VCALENDAR
VERSION:2.0
PRODID:-//eventon.com NONSGML v1.0//EN
CALSCALE:GREGORIAN
METHOD:PUBLISH
BEGIN:VEVENT
UID:69e894d935c8a
DTSTAMP:20260422T092857Z
DTSTART:20250731T150000Z
DTEND:20250731T170000Z
LOCATION:Kirchwerder STS Schule Kirchenheeweg 85
SUMMARY:Cheerleading HRC Princess (7-12J)
DESCRIPTION:Cheerleading ist eine Kombination aus Tanz\,  Akrobatik und Tur
 nen und bietet somit eine abwechslungsreiche und vielseitige Möglichkeit\,
   sich sportlich zu betätigen. Zudem fördert es Teamgeist und Selbstbewus
 stsein\,  da man als Teil einer Gruppe gemeinsam an einer Choreografie arbe
 itet und diese dann vor einem Publikum präsentiert. Auch kann man durch da
 s[..]\nhttps://www.activecitysummer.de/events/cheerleading-hrc-princess-7-1
 2j/
URL:https://www.activecitysummer.de/events/cheerleading-hrc-princess-7-12j/
END:VEVENT
END:VCALENDAR