BEGIN:VCALENDAR
VERSION:2.0
PRODID:-//eventon.com NONSGML v1.0//EN
CALSCALE:GREGORIAN
METHOD:PUBLISH
BEGIN:VEVENT
UID:69e6226ca1e9e
DTSTAMP:20260420T125612Z
DTSTART:20250801T160000Z
DTEND:20250801T180000Z
LOCATION:Sportanlage Fünfhausen Sporthallenweg 7\,  21037 Hamburg
SUMMARY:Tischtennis (6-99 J.)
DESCRIPTION:Tischtennis\,  auch Ping Pong oder auf Englisch table tennis ge
 nannt\,  ist die schnellste Rückschlagsportart der Welt. Es ist ein Sport\
 ,  welcher auf einem Tischtennistisch (Tischtennisplatte) gespielt werden\,
   der in der Mitte mit einem Netz unterteilt ist. Ziel ist es\,  einen Tisc
 htennisball über das Netz zu befördern\,  sodass er auf der[..]\nhttps://
 www.activecitysummer.de/events/tischtennis-6-99-j/
URL:https://www.activecitysummer.de/events/tischtennis-6-99-j/
END:VEVENT
END:VCALENDAR