BEGIN:VCALENDAR
VERSION:2.0
PRODID:-//eventon.com NONSGML v1.0//EN
CALSCALE:GREGORIAN
METHOD:PUBLISH
BEGIN:VEVENT
UID:69e75b6e3a1ef
DTSTAMP:20260421T111142Z
DTSTART:20250822T160000Z
DTEND:20250822T170000Z
LOCATION:Halle Kirchwerder Kirchwerder Hausdeich 341\,  21037 Hamburg
SUMMARY:Pilates mit Nicole
DESCRIPTION:Bei diesem Angebot wird der ganze Körper trainiert und so die 
 körperliche Fitness sowie das seelische Wohlbefinden gesteigert. Besonders
  die Körpermitte (Powerhouse) wird trainiert. Pilates stärkt Muskeln und 
 Gelenke ohne zu belasten. Zum Schluss gibt es eine Entspannungseinheit. Bit
 te bringt eine Matte mit.\nhttps://www.activecitysummer.de/events/pilates-m
 it-nicole-10/
URL:https://www.activecitysummer.de/events/pilates-mit-nicole-10/
END:VEVENT
END:VCALENDAR