BEGIN:VCALENDAR
VERSION:2.0
PRODID:-//eventon.com NONSGML v1.0//EN
CALSCALE:GREGORIAN
METHOD:PUBLISH
BEGIN:VEVENT
UID:69e8aca97df4f
DTSTAMP:20260422T111033Z
DTSTART:20250903T143000Z
DTEND:20250903T153000Z
LOCATION:Studio Fünfhausen Sporthallenweg 7
SUMMARY:Spiel und Spaß zur Musik (4-9 Jahre)
DESCRIPTION:Spiel und Spaß zur Musik (4-9 Jahre)\nhttps://www.activecitysu
 mmer.de/events/spiel-und-spass-zur-musik-4-9-jahre-2/
URL:https://www.activecitysummer.de/events/spiel-und-spass-zur-musik-4-9-jahre-2/
END:VEVENT
END:VCALENDAR