BEGIN:VCALENDAR
VERSION:2.0
PRODID:-//eventon.com NONSGML v1.0//EN
CALSCALE:GREGORIAN
METHOD:PUBLISH
BEGIN:VEVENT
UID:69e5e05b3a8c2
DTSTAMP:20260420T081419Z
DTSTART:20250711T150000Z
DTEND:20250711T160000Z
LOCATION:ADYTON\,  Fitnessstudio des Niendorfer TSV v. 1919 e.V. Sachsenweg 78\,  22455 Hamburg
SUMMARY:Step Aerobic - Active City Summer Special
DESCRIPTION:Step Aerobic &#8211; unser Active City Summer Kursspecial im AD
 YTON Fitnessstudio für dich: Trainiere deine Ausdauer und Koordination bei
  toller Musik mit Karin &#8211; auf/mit dem Stepper &#8211; viel Spaß!\nht
 tps://www.activecitysummer.de/events/step-aerobic-active-city-summer-specia
 l-2/var/ri-1.l-L1
URL:https://www.activecitysummer.de/events/step-aerobic-active-city-summer-special-2/var/ri-1.l-L1
END:VEVENT
END:VCALENDAR